BEGIN:VCALENDAR
VERSION:2.0
PRODID:-//Pizzicar Galante - ECPv6.15.18//NONSGML v1.0//EN
CALSCALE:GREGORIAN
METHOD:PUBLISH
X-WR-CALNAME:Pizzicar Galante
X-ORIGINAL-URL:https://www.pizzicargalante.com
X-WR-CALDESC:Évènements pour Pizzicar Galante
REFRESH-INTERVAL;VALUE=DURATION:PT1H
X-Robots-Tag:noindex
X-PUBLISHED-TTL:PT1H
BEGIN:VTIMEZONE
TZID:Europe/Paris
BEGIN:DAYLIGHT
TZOFFSETFROM:+0100
TZOFFSETTO:+0200
TZNAME:CEST
DTSTART:20210328T010000
END:DAYLIGHT
BEGIN:STANDARD
TZOFFSETFROM:+0200
TZOFFSETTO:+0100
TZNAME:CET
DTSTART:20211031T010000
END:STANDARD
BEGIN:DAYLIGHT
TZOFFSETFROM:+0100
TZOFFSETTO:+0200
TZNAME:CEST
DTSTART:20220327T010000
END:DAYLIGHT
BEGIN:STANDARD
TZOFFSETFROM:+0200
TZOFFSETTO:+0100
TZNAME:CET
DTSTART:20221030T010000
END:STANDARD
BEGIN:DAYLIGHT
TZOFFSETFROM:+0100
TZOFFSETTO:+0200
TZNAME:CEST
DTSTART:20230326T010000
END:DAYLIGHT
BEGIN:STANDARD
TZOFFSETFROM:+0200
TZOFFSETTO:+0100
TZNAME:CET
DTSTART:20231029T010000
END:STANDARD
END:VTIMEZONE
BEGIN:VEVENT
DTSTART;TZID=Europe/Paris:20221117T080000
DTEND;TZID=Europe/Paris:20221121T170000
DTSTAMP:20260423T205223
CREATED:20221006T072906Z
LAST-MODIFIED:20221006T073605Z
UID:3221-1668672000-1669050000@www.pizzicargalante.com
SUMMARY:Enregistrement de disque
DESCRIPTION:Castelfranco Veneto\, Italie
URL:https://www.pizzicargalante.com/event/3221/
ATTACH;FMTTYPE=image/jpeg:https://www.pizzicargalante.com/wp-content/uploads/2022/10/Schermata-2022-10-06-alle-09.27.21.jpg
END:VEVENT
END:VCALENDAR