BEGIN:VCALENDAR
VERSION:2.0
PRODID:-//Pizzicar Galante - ECPv6.15.18//NONSGML v1.0//EN
CALSCALE:GREGORIAN
METHOD:PUBLISH
X-WR-CALNAME:Pizzicar Galante
X-ORIGINAL-URL:https://www.pizzicargalante.com
X-WR-CALDESC:Évènements pour Pizzicar Galante
REFRESH-INTERVAL;VALUE=DURATION:PT1H
X-Robots-Tag:noindex
X-PUBLISHED-TTL:PT1H
BEGIN:VTIMEZONE
TZID:Europe/Paris
BEGIN:DAYLIGHT
TZOFFSETFROM:+0100
TZOFFSETTO:+0200
TZNAME:CEST
DTSTART:20220327T010000
END:DAYLIGHT
BEGIN:STANDARD
TZOFFSETFROM:+0200
TZOFFSETTO:+0100
TZNAME:CET
DTSTART:20221030T010000
END:STANDARD
BEGIN:DAYLIGHT
TZOFFSETFROM:+0100
TZOFFSETTO:+0200
TZNAME:CEST
DTSTART:20230326T010000
END:DAYLIGHT
BEGIN:STANDARD
TZOFFSETFROM:+0200
TZOFFSETTO:+0100
TZNAME:CET
DTSTART:20231029T010000
END:STANDARD
BEGIN:DAYLIGHT
TZOFFSETFROM:+0100
TZOFFSETTO:+0200
TZNAME:CEST
DTSTART:20240331T010000
END:DAYLIGHT
BEGIN:STANDARD
TZOFFSETFROM:+0200
TZOFFSETTO:+0100
TZNAME:CET
DTSTART:20241027T010000
END:STANDARD
END:VTIMEZONE
BEGIN:VEVENT
DTSTART;TZID=Europe/Paris:20230915T170000
DTEND;TZID=Europe/Paris:20230915T180000
DTSTAMP:20260423T063051
CREATED:20230324T212828Z
LAST-MODIFIED:20230324T212828Z
UID:3266-1694797200-1694800800@www.pizzicargalante.com
SUMMARY:Festival MiTo Settembre Musica
DESCRIPTION:TURIN (I)
URL:https://www.pizzicargalante.com/event/festival-mito-settembre-musica/
ATTACH;FMTTYPE=image/jpeg:https://www.pizzicargalante.com/wp-content/uploads/2022/02/236087957_159768462950479_7424160861347480020_n-2-e1644661894475.jpg
END:VEVENT
END:VCALENDAR