BEGIN:VCALENDAR
VERSION:2.0
PRODID:-//Pizzicar Galante - ECPv6.15.18//NONSGML v1.0//EN
CALSCALE:GREGORIAN
METHOD:PUBLISH
X-ORIGINAL-URL:https://www.pizzicargalante.com
X-WR-CALDESC:Évènements pour Pizzicar Galante
REFRESH-INTERVAL;VALUE=DURATION:PT1H
X-Robots-Tag:noindex
X-PUBLISHED-TTL:PT1H
BEGIN:VTIMEZONE
TZID:Europe/Paris
BEGIN:DAYLIGHT
TZOFFSETFROM:+0100
TZOFFSETTO:+0200
TZNAME:CEST
DTSTART:20220327T010000
END:DAYLIGHT
BEGIN:STANDARD
TZOFFSETFROM:+0200
TZOFFSETTO:+0100
TZNAME:CET
DTSTART:20221030T010000
END:STANDARD
BEGIN:DAYLIGHT
TZOFFSETFROM:+0100
TZOFFSETTO:+0200
TZNAME:CEST
DTSTART:20230326T010000
END:DAYLIGHT
BEGIN:STANDARD
TZOFFSETFROM:+0200
TZOFFSETTO:+0100
TZNAME:CET
DTSTART:20231029T010000
END:STANDARD
BEGIN:DAYLIGHT
TZOFFSETFROM:+0100
TZOFFSETTO:+0200
TZNAME:CEST
DTSTART:20240331T010000
END:DAYLIGHT
BEGIN:STANDARD
TZOFFSETFROM:+0200
TZOFFSETTO:+0100
TZNAME:CET
DTSTART:20241027T010000
END:STANDARD
END:VTIMEZONE
BEGIN:VEVENT
DTSTART;TZID=Europe/Paris:20231125T183000
DTEND;TZID=Europe/Paris:20231125T193000
DTSTAMP:20260423T033453
CREATED:20231030T165929Z
LAST-MODIFIED:20231030T170145Z
UID:3269-1700937000-1700940600@www.pizzicargalante.com
SUMMARY:Arte e Musica a Cento 2023-2024
DESCRIPTION:Un air d’Italie\nIl mandolino a Parigi nel XVIII secolo
URL:https://www.pizzicargalante.com/event/arte-e-musica-a-cento-2023-2024/
LOCATION:Pinacoteca San Lorenzo\, Cento (FE)\, Italie
ATTACH;FMTTYPE=image/jpeg:https://www.pizzicargalante.com/wp-content/uploads/2023/10/un_air_d_italie-small.jpg
END:VEVENT
END:VCALENDAR